BEGIN:VCALENDAR
VERSION:2.0
PRODID:-//National Services for Health Improvement - ECPv6.15.20//NONSGML v1.0//EN
CALSCALE:GREGORIAN
METHOD:PUBLISH
X-WR-CALNAME:National Services for Health Improvement
X-ORIGINAL-URL:https://nshi.co.uk
X-WR-CALDESC:Events for National Services for Health Improvement
REFRESH-INTERVAL;VALUE=DURATION:PT1H
X-Robots-Tag:noindex
X-PUBLISHED-TTL:PT1H
BEGIN:VTIMEZONE
TZID:Europe/London
BEGIN:DAYLIGHT
TZOFFSETFROM:+0000
TZOFFSETTO:+0100
TZNAME:BST
DTSTART:20240331T010000
END:DAYLIGHT
BEGIN:STANDARD
TZOFFSETFROM:+0100
TZOFFSETTO:+0000
TZNAME:GMT
DTSTART:20241027T010000
END:STANDARD
BEGIN:DAYLIGHT
TZOFFSETFROM:+0000
TZOFFSETTO:+0100
TZNAME:BST
DTSTART:20250330T010000
END:DAYLIGHT
BEGIN:STANDARD
TZOFFSETFROM:+0100
TZOFFSETTO:+0000
TZNAME:GMT
DTSTART:20251026T010000
END:STANDARD
BEGIN:DAYLIGHT
TZOFFSETFROM:+0000
TZOFFSETTO:+0100
TZNAME:BST
DTSTART:20260329T010000
END:DAYLIGHT
BEGIN:STANDARD
TZOFFSETFROM:+0100
TZOFFSETTO:+0000
TZNAME:GMT
DTSTART:20261025T010000
END:STANDARD
END:VTIMEZONE
BEGIN:VEVENT
DTSTART;TZID=Europe/London:20251006T090000
DTEND;TZID=Europe/London:20251006T170000
DTSTAMP:20260424T145300
CREATED:20250731T080647Z
LAST-MODIFIED:20250826T091951Z
UID:31458-1759741200-1759770000@nshi.co.uk
SUMMARY:COPD Course – Cohort 1
DESCRIPTION:[vc_row][vc_column width=”2/3″][vc_column_text css=””]Advance your clinical skills with the NSHI Academy COPD Course – designed to empower healthcare professionals with the knowledge and confidence needed to manage COPD effectively in primary care. \nAccredited by the Royal College of Nursing (RCN)\, this course meets the highest standards of educational excellence. You will benefit from trusted\, relevant training that leads to a respected and credible qualification. \nOur focused curriculum explores the diagnosis and management of COPD\, ensuring you are equipped to make informed decisions and improve patient outcomes in clinical practice. \nCourse outline: \nDay 1 – Anatomy & Physiology and Pathophysiology of COPD. Symptoms\, causes and risk factors. Understanding Chronic Bronchitis and Emphysema. \n\n\nDay 2 – Assessing and diagnosing asthma and investigations to support diagnosis. \n\n\n\n\nDay 3 – Recognising and managing exacerbations. Self management strategies. Performing a COPD review\, remotely and face to face. How to recognise a deteriorating patient. \n\n\n\n\nAssignment: Case Study relating to a patient you have reviewed to demonstrate knowledge and understanding of the therapy area. \nThis 3 day course is delivered remotely via Microsoft Teams on the following dates: \nDay 1 – 06/10/25 \nDay 2 – 12/11/25 \nDay 3 – 17/11/25 \n\n\n[/vc_column_text][/vc_column][vc_column width=”1/3″]\n	\n	 \n\n		\n\n		£450BenefitsExpert trainersRemote deliveryFlexible and convenientDedicated supportBook Now [/vc_column][/vc_row]
URL:https://nshi.co.uk/event/copd-course-cohort-1/
CATEGORIES:NSHI Academy Courses
END:VEVENT
END:VCALENDAR