BEGIN:VCALENDAR
VERSION:2.0
PRODID:-//National Services for Health Improvement - ECPv6.15.20//NONSGML v1.0//EN
CALSCALE:GREGORIAN
METHOD:PUBLISH
X-ORIGINAL-URL:https://nshi.co.uk
X-WR-CALDESC:Events for National Services for Health Improvement
REFRESH-INTERVAL;VALUE=DURATION:PT1H
X-Robots-Tag:noindex
X-PUBLISHED-TTL:PT1H
BEGIN:VTIMEZONE
TZID:Europe/London
BEGIN:DAYLIGHT
TZOFFSETFROM:+0000
TZOFFSETTO:+0100
TZNAME:BST
DTSTART:20240331T010000
END:DAYLIGHT
BEGIN:STANDARD
TZOFFSETFROM:+0100
TZOFFSETTO:+0000
TZNAME:GMT
DTSTART:20241027T010000
END:STANDARD
BEGIN:DAYLIGHT
TZOFFSETFROM:+0000
TZOFFSETTO:+0100
TZNAME:BST
DTSTART:20250330T010000
END:DAYLIGHT
BEGIN:STANDARD
TZOFFSETFROM:+0100
TZOFFSETTO:+0000
TZNAME:GMT
DTSTART:20251026T010000
END:STANDARD
BEGIN:DAYLIGHT
TZOFFSETFROM:+0000
TZOFFSETTO:+0100
TZNAME:BST
DTSTART:20260329T010000
END:DAYLIGHT
BEGIN:STANDARD
TZOFFSETFROM:+0100
TZOFFSETTO:+0000
TZNAME:GMT
DTSTART:20261025T010000
END:STANDARD
END:VTIMEZONE
BEGIN:VEVENT
DTSTART;TZID=Europe/London:20251002T090000
DTEND;TZID=Europe/London:20251002T170000
DTSTAMP:20260424T120445
CREATED:20250731T080417Z
LAST-MODIFIED:20250804T105214Z
UID:31464-1759395600-1759424400@nshi.co.uk
SUMMARY:ARTP Spirometry Refresher Course
DESCRIPTION:[vc_row][vc_column width=”2/3″][vc_column_text css=””]Enhance your skills in conducting and interpreting spirometry with our comprehensive one-day refresher course designed specifically for healthcare professionals. This training session is created to provide participants with the latest updates in spirometry practice\, ensuring they remain competent at performing and accurately reporting spirometry tests. \nThroughout the course\, attendees will engage in hands-on exercises\, interactive discussions\, and practical demonstrations aimed at refining their abilities and addressing any challenges they may encounter in spirometry testing. \nBy attending this course\, you will not only refresh your knowledge but also gain valuable insights into best practices and advancements in spirometry\, ultimately enhancing the quality of care you deliver to patients. \nCourse outline: \n\nRefresh skills & boost confidence\nImprove test accuracy & interpretation\nPerfect for maintaining clinical competence\nIncludes ARTP compliant NSHI materials\n\n\n\nThis 1 day course is delivered remotely via Microsoft Teams. \n\n\n[/vc_column_text][/vc_column][vc_column width=”1/3″]\n	\n	 \n\n		\n\n		£150BenefitsExpert trainersRemote deliveryFlexible and convenientDedicated supportBook Now [/vc_column][/vc_row]
URL:https://nshi.co.uk/event/artp-spirometry-refresher-course/
CATEGORIES:NSHI Academy Courses
END:VEVENT
END:VCALENDAR